BEGIN:VCALENDAR
VERSION:2.0
PRODID:-//balzacunitedchurch new - ECPv6.15.20//NONSGML v1.0//EN
CALSCALE:GREGORIAN
METHOD:PUBLISH
X-WR-CALNAME:balzacunitedchurch new
X-ORIGINAL-URL:https://balzacunitedchurch.com
X-WR-CALDESC:Events for balzacunitedchurch new
REFRESH-INTERVAL;VALUE=DURATION:PT1H
X-Robots-Tag:noindex
X-PUBLISHED-TTL:PT1H
BEGIN:VTIMEZONE
TZID:UTC
BEGIN:STANDARD
TZOFFSETFROM:+0000
TZOFFSETTO:+0000
TZNAME:UTC
DTSTART:20250101T000000
END:STANDARD
END:VTIMEZONE
BEGIN:VEVENT
DTSTART;TZID=UTC:20260412T100000
DTEND;TZID=UTC:20260412T110000
DTSTAMP:20260420T164107
CREATED:20260318T202708Z
LAST-MODIFIED:20260318T202708Z
UID:1572-1775988000-1775991600@balzacunitedchurch.com
SUMMARY:Sunday Service
DESCRIPTION:Sun\, Apr 12 – \nSunday Worship at the church and on Zoom @ 10:00am. \ncontact (403) 226-5844 or balzacunitedchurch@gmail.com for details.
URL:https://balzacunitedchurch.com/event/sunday-service-4/
LOCATION:Balzac United Church\, 10076 TWP RD 262\, Balzac\, AB\, T4B 2T3\, Canada
ORGANIZER;CN="Worship Committee":MAILTO:balzacunitedchurch@gmail.com
END:VEVENT
BEGIN:VEVENT
DTSTART;TZID=UTC:20260405T100000
DTEND;TZID=UTC:20260405T230000
DTSTAMP:20260420T164107
CREATED:20260318T024705Z
LAST-MODIFIED:20260318T024811Z
UID:1561-1775383200-1775430000@balzacunitedchurch.com
SUMMARY:Sunday Service
DESCRIPTION:Sun\, Apr 5 – Rev. Ruth McArthur\, Easter Sunday \nSunday Worship at the church and on Zoom @ 10:00am. \ncontact (403) 226-5844 or balzacunitedchurch@gmail.com for details.
URL:https://balzacunitedchurch.com/event/sunday-service-3/
LOCATION:Balzac United Church\, 10076 TWP RD 262\, Balzac\, AB\, T4B 2T3\, Canada
ORGANIZER;CN="Worship Committee":MAILTO:balzacunitedchurch@gmail.com
END:VEVENT
BEGIN:VEVENT
DTSTART;TZID=UTC:20260403T080000
DTEND;TZID=UTC:20260403T170000
DTSTAMP:20260420T164107
CREATED:20260318T025004Z
LAST-MODIFIED:20260318T025004Z
UID:1563-1775203200-1775235600@balzacunitedchurch.com
SUMMARY:Good Friday Service
DESCRIPTION:Fri\, Apr 3 – Rev. Ruth McArthur\, Good Friday \nSunday Worship at the church and on Zoom @ 10:00am. \ncontact (403) 226-5844 or balzacunitedchurch@gmail.com for details.
URL:https://balzacunitedchurch.com/event/good-friday-service/
LOCATION:Balzac United Church\, 10076 TWP RD 262\, Balzac\, AB\, T4B 2T3\, Canada
ORGANIZER;CN="Worship Committee":MAILTO:balzacunitedchurch@gmail.com
END:VEVENT
BEGIN:VEVENT
DTSTART;TZID=UTC:20260329T100000
DTEND;TZID=UTC:20260329T220000
DTSTAMP:20260420T164107
CREATED:20260318T024347Z
LAST-MODIFIED:20260325T134847Z
UID:1558-1774778400-1774821600@balzacunitedchurch.com
SUMMARY:Sunday Service
DESCRIPTION:Sun\, Mar 29 – Rev. Ruth McArthur\, Palm Sunday \nSunday Worship at the church and on Zoom @ 10:00am. \ncontact (403) 226-5844 or balzacunitedchurch@gmail.com for details.
URL:https://balzacunitedchurch.com/event/sunday-service-2/
LOCATION:Balzac United Church\, 10076 TWP RD 262\, Balzac\, AB\, T4B 2T3\, Canada
ORGANIZER;CN="Worship Committee":MAILTO:balzacunitedchurch@gmail.com
END:VEVENT
BEGIN:VEVENT
DTSTART;TZID=UTC:20260322T100000
DTEND;TZID=UTC:20260322T110000
DTSTAMP:20260420T164107
CREATED:20260318T023857Z
LAST-MODIFIED:20260318T023857Z
UID:1556-1774173600-1774177200@balzacunitedchurch.com
SUMMARY:Sunday Service
DESCRIPTION:Sun\, Mar 22 – Rev. Linda Hunter \nSunday Worship at the church and on Zoom @ 10:00am. \ncontact (403) 226-5844 or balzacunitedchurch@gmail.com for details.
URL:https://balzacunitedchurch.com/event/sunday-service/
LOCATION:Balzac United Church\, 10076 TWP RD 262\, Balzac\, AB\, T4B 2T3\, Canada
END:VEVENT
BEGIN:VEVENT
DTSTART;TZID=UTC:20260315T110000
DTEND;TZID=UTC:20260315T123000
DTSTAMP:20260420T164107
CREATED:20260311T165915Z
LAST-MODIFIED:20260311T165955Z
UID:136-1773572400-1773577800@balzacunitedchurch.com
SUMMARY:BUC Annual General Meeting
DESCRIPTION:BUC Annual General Meeting to be held on Sunday\, March 15\, 2026:\n\n\nAGM will start immediately following the worship service.\n\n\nA potluck lunch will be held after the meeting to celebrate a successful 2025.\n\n\nThe BUC AGM Report for 2025 is now available for your reference. A digital copy is attached to the weekly email. Printed copies of the report will be available at the church. There will be limited quantities of the print version so let us know if more copies are required.\n\n\nPlease plan on attending to hear our progress over the last year and to raise any of your questions or concerns. The board would appreciate your input.\n\n\n-Ruth Unser\, Board Chair
URL:https://balzacunitedchurch.com/event/buc-annual-general-meeting/
LOCATION:Balzac United Church\, 10076 TWP RD 262\, Balzac\, AB\, T4B 2T3\, Canada
ATTACH;FMTTYPE=image/png:https://balzacunitedchurch.com/wp-content/uploads/2026/03/AGM_2026.png
END:VEVENT
END:VCALENDAR